{
 "currentVersion": 11.5,
 "serviceDescription": "LiDAR surface representing bare earth elevation. Above ground features such as trees and buildings are not represented in this surface.",
 "name": "Elevation/OC_DEM_Hillshade",
 "description": "LiDAR surface representing bare earth elevation. Above ground features such as trees and buildings are not represented in this surface.",
 "extent": {
  "xmin": 739832,
  "ymin": 554814,
  "xmax": 884260,
  "ymax": 682508,
  "spatialReference": {
   "wkt2": "PROJCRS[\"NAD_1983_HARN_Transverse_Mercator\",BASEGEOGCRS[\"GCS_North_American_1983_HARN\",DATUM[\"D_North_American_1983_HARN\",ELLIPSOID[\"GRS_1980\",6378137.0,298.257222101,LENGTHUNIT[\"Meter\",1.0]]],PRIMEM[\"Greenwich\",0.0,ANGLEUNIT[\"Degree\",0.0174532925199433]],CS[ellipsoidal,2],AXIS[\"Latitude (lat)\",north,ORDER[1]],AXIS[\"Longitude (lon)\",east,ORDER[2]],ANGLEUNIT[\"Degree\",0.0174532925199433]],CONVERSION[\"Transverse_Mercator\",METHOD[\"Transverse_Mercator\"],PARAMETER[\"False_Easting\",802999.999,LENGTHUNIT[\"Foot_US\",0.3048006096012192]],PARAMETER[\"False_Northing\",0.016,LENGTHUNIT[\"Foot_US\",0.3048006096012192]],PARAMETER[\"Central_Meridian\",-88.5,ANGLEUNIT[\"Degree\",0.0174532925199433]],PARAMETER[\"Scale_Factor\",1.0000286569,SCALEUNIT[\"Unity\",1.0]],PARAMETER[\"Latitude_Of_Origin\",42.7194444444444,ANGLEUNIT[\"Degree\",0.0174532925199433]]],CS[Cartesian,2],AXIS[\"Easting (X)\",east,ORDER[1]],AXIS[\"Northing (Y)\",north,ORDER[2]],LENGTHUNIT[\"Foot_US\",0.3048006096012192]]",
   "wkt": "PROJCS[\"NAD_1983_HARN_Transverse_Mercator\",GEOGCS[\"GCS_North_American_1983_HARN\",DATUM[\"D_North_American_1983_HARN\",SPHEROID[\"GRS_1980\",6378137.0,298.257222101]],PRIMEM[\"Greenwich\",0.0],UNIT[\"Degree\",0.0174532925199433]],PROJECTION[\"Transverse_Mercator\"],PARAMETER[\"False_Easting\",802999.999],PARAMETER[\"False_Northing\",0.016],PARAMETER[\"Central_Meridian\",-88.5],PARAMETER[\"Scale_Factor\",1.0000286569],PARAMETER[\"Latitude_Of_Origin\",42.7194444444444],UNIT[\"Foot_US\",0.3048006096012192]]"
  }
 },
 "initialExtent": {
  "xmin": 739832,
  "ymin": 554814,
  "xmax": 884260,
  "ymax": 682508,
  "spatialReference": {
   "wkt2": "PROJCRS[\"NAD_1983_HARN_Transverse_Mercator\",BASEGEOGCRS[\"GCS_North_American_1983_HARN\",DATUM[\"D_North_American_1983_HARN\",ELLIPSOID[\"GRS_1980\",6378137.0,298.257222101,LENGTHUNIT[\"Meter\",1.0]]],PRIMEM[\"Greenwich\",0.0,ANGLEUNIT[\"Degree\",0.0174532925199433]],CS[ellipsoidal,2],AXIS[\"Latitude (lat)\",north,ORDER[1]],AXIS[\"Longitude (lon)\",east,ORDER[2]],ANGLEUNIT[\"Degree\",0.0174532925199433]],CONVERSION[\"Transverse_Mercator\",METHOD[\"Transverse_Mercator\"],PARAMETER[\"False_Easting\",802999.999,LENGTHUNIT[\"Foot_US\",0.3048006096012192]],PARAMETER[\"False_Northing\",0.016,LENGTHUNIT[\"Foot_US\",0.3048006096012192]],PARAMETER[\"Central_Meridian\",-88.5,ANGLEUNIT[\"Degree\",0.0174532925199433]],PARAMETER[\"Scale_Factor\",1.0000286569,SCALEUNIT[\"Unity\",1.0]],PARAMETER[\"Latitude_Of_Origin\",42.7194444444444,ANGLEUNIT[\"Degree\",0.0174532925199433]]],CS[Cartesian,2],AXIS[\"Easting (X)\",east,ORDER[1]],AXIS[\"Northing (Y)\",north,ORDER[2]],LENGTHUNIT[\"Foot_US\",0.3048006096012192]]",
   "wkt": "PROJCS[\"NAD_1983_HARN_Transverse_Mercator\",GEOGCS[\"GCS_North_American_1983_HARN\",DATUM[\"D_North_American_1983_HARN\",SPHEROID[\"GRS_1980\",6378137.0,298.257222101]],PRIMEM[\"Greenwich\",0.0],UNIT[\"Degree\",0.0174532925199433]],PROJECTION[\"Transverse_Mercator\"],PARAMETER[\"False_Easting\",802999.999],PARAMETER[\"False_Northing\",0.016],PARAMETER[\"Central_Meridian\",-88.5],PARAMETER[\"Scale_Factor\",1.0000286569],PARAMETER[\"Latitude_Of_Origin\",42.7194444444444],UNIT[\"Foot_US\",0.3048006096012192]]"
  }
 },
 "fullExtent": {
  "xmin": 739832,
  "ymin": 554814,
  "xmax": 884260,
  "ymax": 682508,
  "spatialReference": {
   "wkt2": "PROJCRS[\"NAD_1983_HARN_Transverse_Mercator\",BASEGEOGCRS[\"GCS_North_American_1983_HARN\",DATUM[\"D_North_American_1983_HARN\",ELLIPSOID[\"GRS_1980\",6378137.0,298.257222101,LENGTHUNIT[\"Meter\",1.0]]],PRIMEM[\"Greenwich\",0.0,ANGLEUNIT[\"Degree\",0.0174532925199433]],CS[ellipsoidal,2],AXIS[\"Latitude (lat)\",north,ORDER[1]],AXIS[\"Longitude (lon)\",east,ORDER[2]],ANGLEUNIT[\"Degree\",0.0174532925199433]],CONVERSION[\"Transverse_Mercator\",METHOD[\"Transverse_Mercator\"],PARAMETER[\"False_Easting\",802999.999,LENGTHUNIT[\"Foot_US\",0.3048006096012192]],PARAMETER[\"False_Northing\",0.016,LENGTHUNIT[\"Foot_US\",0.3048006096012192]],PARAMETER[\"Central_Meridian\",-88.5,ANGLEUNIT[\"Degree\",0.0174532925199433]],PARAMETER[\"Scale_Factor\",1.0000286569,SCALEUNIT[\"Unity\",1.0]],PARAMETER[\"Latitude_Of_Origin\",42.7194444444444,ANGLEUNIT[\"Degree\",0.0174532925199433]]],CS[Cartesian,2],AXIS[\"Easting (X)\",east,ORDER[1]],AXIS[\"Northing (Y)\",north,ORDER[2]],LENGTHUNIT[\"Foot_US\",0.3048006096012192]]",
   "wkt": "PROJCS[\"NAD_1983_HARN_Transverse_Mercator\",GEOGCS[\"GCS_North_American_1983_HARN\",DATUM[\"D_North_American_1983_HARN\",SPHEROID[\"GRS_1980\",6378137.0,298.257222101]],PRIMEM[\"Greenwich\",0.0],UNIT[\"Degree\",0.0174532925199433]],PROJECTION[\"Transverse_Mercator\"],PARAMETER[\"False_Easting\",802999.999],PARAMETER[\"False_Northing\",0.016],PARAMETER[\"Central_Meridian\",-88.5],PARAMETER[\"Scale_Factor\",1.0000286569],PARAMETER[\"Latitude_Of_Origin\",42.7194444444444],UNIT[\"Foot_US\",0.3048006096012192]]"
  }
 },
 "sortableFields": "",
 "bandCount": 1,
 "pixelType": "S32",
 "minValues": [],
 "maxValues": [],
 "meanValues": [],
 "stdvValues": [],
 "serviceProperties": "Center<\/MosaicMethod>First<\/MosaicOperator>true<\/SortAscending><\/LockImageID><\/TileOrderField>0<\/TileOrderBase>0.000000<\/AvgImageSpacingX>0.000000<\/AvgImageSpacingY>0.0<\/ViewPointX>0.0<\/ViewPointY>0.0<\/ViewPointDefShiftX>0.0<\/ViewPointDefShiftY>None<\/CompressionMethod>75<\/CompressionQuality>0.010000<\/CompressionTolerance>Bilinear<\/SamplingMethod><\/ImageServiceProperties><\/ImageServer>",
 "allowedFields": "",
 "hasMultidimensions": false,
 "pixelSizeX": 2,
 "pixelSizeY": 2,
 "meanPixelSize": 0.6096012192024385,
 "datasetFormat": "GRID",
 "uncompressedSize": 18442589032,
 "blockWidth": 256,
 "blockHeight": 16,
 "compressionType": "RLE",
 "bandNames": [
  "oc_hill_dem"
 ],
 "allowCopy": true,
 "allowAnalysis": true,
 "itemAccess": false,
 "inspectionCapabilities": "",
 "noDataValue": -2147483647,
 "noDataValues": [
  -2147483647
 ],
 "minPixelSize": 0,
 "maxPixelSize": 0,
 "copyrightText": "",
 "serviceDataType": "esriImageServiceDataTypeGeneric",
 "serviceSourceType": "esriImageServiceSourceTypeDataset",
 "objectIdField": "",
 "fields": [],
 "capabilities": "Image,Metadata,Mensuration",
 "defaultMosaicMethod": "Center",
 "allowedMosaicMethods": "",
 "sortField": "",
 "sortValue": null,
 "sortAscending": true,
 "mosaicOperator": "First",
 "defaultCompressionQuality": 75,
 "defaultResamplingMethod": "Bilinear",
 "maxImageHeight": 4100,
 "maxImageWidth": 15000,
 "allowRasterFunction": true,
 "rasterFunctionInfos": [
  {
   "name": "None",
   "description": "",
   "help": ""
  }
 ],
 "rasterTypeInfos": [
  {
   "name": "Raster Dataset",
   "description": "Supports all ArcGIS Raster Datasets",
   "help": ""
  }
 ],
 "mensurationCapabilities": "Basic",
 "hasHistograms": false,
 "hasColormap": false,
 "hasRasterAttributeTable": false,
 "minScale": 0,
 "maxScale": 0,
 "exportTilesAllowed": false,
 "supportsStatistics": false,
 "supportsAdvancedQueries": false,
 "editFieldsInfo": null,
 "ownershipBasedAccessControlForRasters": null,
 "allowComputeTiePoints": false,
 "useStandardizedQueries": true,
 "advancedQueryCapabilities": {
  "useStandardizedQueries": true,
  "supportsStatistics": false,
  "supportsOrderBy": false,
  "supportsDistinct": false,
  "supportsPagination": false
 },
 "spatialReference": {
  "wkt2": "PROJCRS[\"NAD_1983_HARN_Transverse_Mercator\",BASEGEOGCRS[\"GCS_North_American_1983_HARN\",DATUM[\"D_North_American_1983_HARN\",ELLIPSOID[\"GRS_1980\",6378137.0,298.257222101,LENGTHUNIT[\"Meter\",1.0]]],PRIMEM[\"Greenwich\",0.0,ANGLEUNIT[\"Degree\",0.0174532925199433]],CS[ellipsoidal,2],AXIS[\"Latitude (lat)\",north,ORDER[1]],AXIS[\"Longitude (lon)\",east,ORDER[2]],ANGLEUNIT[\"Degree\",0.0174532925199433]],CONVERSION[\"Transverse_Mercator\",METHOD[\"Transverse_Mercator\"],PARAMETER[\"False_Easting\",802999.999,LENGTHUNIT[\"Foot_US\",0.3048006096012192]],PARAMETER[\"False_Northing\",0.016,LENGTHUNIT[\"Foot_US\",0.3048006096012192]],PARAMETER[\"Central_Meridian\",-88.5,ANGLEUNIT[\"Degree\",0.0174532925199433]],PARAMETER[\"Scale_Factor\",1.0000286569,SCALEUNIT[\"Unity\",1.0]],PARAMETER[\"Latitude_Of_Origin\",42.7194444444444,ANGLEUNIT[\"Degree\",0.0174532925199433]]],CS[Cartesian,2],AXIS[\"Easting (X)\",east,ORDER[1]],AXIS[\"Northing (Y)\",north,ORDER[2]],LENGTHUNIT[\"Foot_US\",0.3048006096012192]]",
  "wkt": "PROJCS[\"NAD_1983_HARN_Transverse_Mercator\",GEOGCS[\"GCS_North_American_1983_HARN\",DATUM[\"D_North_American_1983_HARN\",SPHEROID[\"GRS_1980\",6378137.0,298.257222101]],PRIMEM[\"Greenwich\",0.0],UNIT[\"Degree\",0.0174532925199433]],PROJECTION[\"Transverse_Mercator\"],PARAMETER[\"False_Easting\",802999.999],PARAMETER[\"False_Northing\",0.016],PARAMETER[\"Central_Meridian\",-88.5],PARAMETER[\"Scale_Factor\",1.0000286569],PARAMETER[\"Latitude_Of_Origin\",42.7194444444444],UNIT[\"Foot_US\",0.3048006096012192]]"
 }
}
