{
 "currentVersion": 11.5,
 "serviceDescription": "For information contact East Central Wisconsin Regional Planning Commission.\n400 Ahnaip St. Suite 100\nMenasha, WI 54952\n(920) 751-4770 \n\nFax: (920) 751-4771\nstaff@eastcentralrpc.org",
 "name": "Imagery/ORTHO1938",
 "description": "For information contact East Central Wisconsin Regional Planning Commission.\n400 Ahnaip St. Suite 100\nMenasha, WI 54952\n(920) 751-4770 \n\nFax: (920) 751-4771\nstaff@eastcentralrpc.org",
 "extent": {
  "xmin": 736591.1916424205,
  "ymin": 551584.8308488026,
  "xmax": 885188.6247476236,
  "ymax": 684641.7412406749,
  "spatialReference": {
   "wkid": 103444,
   "latestWkid": 103444
  }
 },
 "initialExtent": {
  "xmin": 736591.1916424205,
  "ymin": 551584.8308488026,
  "xmax": 885188.6247476236,
  "ymax": 684641.7412406749,
  "spatialReference": {
   "wkid": 103444,
   "latestWkid": 103444
  }
 },
 "fullExtent": {
  "xmin": 736591.1916424205,
  "ymin": 551584.8308488026,
  "xmax": 885188.6247476236,
  "ymax": 684641.7412406749,
  "spatialReference": {
   "wkid": 103444,
   "latestWkid": 103444
  }
 },
 "sortableFields": "",
 "bandCount": 1,
 "pixelType": "U8",
 "minValues": [
  1
 ],
 "maxValues": [
  255
 ],
 "meanValues": [
  156.3963658910427
 ],
 "stdvValues": [
  59.331548349076506
 ],
 "serviceProperties": "Center<\/MosaicMethod>First<\/MosaicOperator>true<\/SortAscending><\/LockImageID><\/TileOrderField>0<\/TileOrderBase>0.000000<\/AvgImageSpacingX>0.000000<\/AvgImageSpacingY>0.0<\/ViewPointX>0.0<\/ViewPointY>0.0<\/ViewPointDefShiftX>0.0<\/ViewPointDefShiftY>None<\/CompressionMethod>75<\/CompressionQuality>0.010000<\/CompressionTolerance>Bilinear<\/SamplingMethod><\/ImageServiceProperties><\/ImageServer>",
 "allowedFields": "",
 "hasMultidimensions": false,
 "pixelSizeX": 1.343290060794445,
 "pixelSizeY": 1.3432900607944462,
 "meanPixelSize": 0.4094356294014059,
 "datasetFormat": "FGDBR",
 "uncompressedSize": 10957440966,
 "blockWidth": 128,
 "blockHeight": 128,
 "compressionType": "LZ77",
 "bandNames": [
  "Band_1"
 ],
 "allowCopy": true,
 "allowAnalysis": true,
 "itemAccess": false,
 "inspectionCapabilities": "",
 "minPixelSize": 0,
 "maxPixelSize": 0,
 "copyrightText": "",
 "serviceDataType": "esriImageServiceDataTypeGeneric",
 "serviceSourceType": "esriImageServiceSourceTypeDataset",
 "objectIdField": "",
 "fields": [],
 "capabilities": "Image,Metadata,Mensuration",
 "defaultMosaicMethod": "Center",
 "allowedMosaicMethods": "",
 "sortField": "",
 "sortValue": null,
 "sortAscending": true,
 "mosaicOperator": "First",
 "defaultCompressionQuality": 75,
 "defaultResamplingMethod": "Bilinear",
 "maxImageHeight": 4100,
 "maxImageWidth": 15000,
 "allowRasterFunction": true,
 "rasterFunctionInfos": [
  {
   "name": "None",
   "description": "",
   "help": ""
  }
 ],
 "rasterTypeInfos": [
  {
   "name": "Raster Dataset",
   "description": "Supports all ArcGIS Raster Datasets",
   "help": ""
  }
 ],
 "mensurationCapabilities": "Basic",
 "hasHistograms": true,
 "hasColormap": false,
 "hasRasterAttributeTable": false,
 "minScale": 0,
 "maxScale": 0,
 "exportTilesAllowed": false,
 "supportsStatistics": false,
 "supportsAdvancedQueries": false,
 "editFieldsInfo": null,
 "ownershipBasedAccessControlForRasters": null,
 "allowComputeTiePoints": false,
 "useStandardizedQueries": true,
 "advancedQueryCapabilities": {
  "useStandardizedQueries": true,
  "supportsStatistics": false,
  "supportsOrderBy": false,
  "supportsDistinct": false,
  "supportsPagination": false
 },
 "spatialReference": {
  "wkid": 103444,
  "latestWkid": 103444
 }
}
