{
 "currentVersion": 11.5,
 "serviceDescription": "1957 Orthophotography of Outagamie County.",
 "name": "Imagery/ORTHO1957",
 "description": "1957 Orthophotography of Outagamie County.",
 "extent": {
  "xmin": 736711.4513588101,
  "ymin": 551633.1038655537,
  "xmax": 887852.7830690575,
  "ymax": 686065.8357897932,
  "spatialReference": {
   "wkid": 103444,
   "latestWkid": 103444
  }
 },
 "initialExtent": {
  "xmin": 736711.4513588101,
  "ymin": 551633.1038655537,
  "xmax": 887852.7830690575,
  "ymax": 686065.8357897932,
  "spatialReference": {
   "wkid": 103444,
   "latestWkid": 103444
  }
 },
 "fullExtent": {
  "xmin": 736711.4513588101,
  "ymin": 551633.1038655537,
  "xmax": 887852.7830690575,
  "ymax": 686065.8357897932,
  "spatialReference": {
   "wkid": 103444,
   "latestWkid": 103444
  }
 },
 "sortableFields": "",
 "bandCount": 1,
 "pixelType": "U8",
 "minValues": [
  14
 ],
 "maxValues": [
  255
 ],
 "meanValues": [
  148.25379868645456
 ],
 "stdvValues": [
  51.291751035290744
 ],
 "serviceProperties": "Center<\/MosaicMethod>First<\/MosaicOperator>true<\/SortAscending><\/LockImageID><\/TileOrderField>0<\/TileOrderBase>0.000000<\/AvgImageSpacingX>0.000000<\/AvgImageSpacingY>0.0<\/ViewPointX>0.0<\/ViewPointY>0.0<\/ViewPointDefShiftX>0.0<\/ViewPointDefShiftY>None<\/CompressionMethod>75<\/CompressionQuality>0.010000<\/CompressionTolerance>Bilinear<\/SamplingMethod><\/ImageServiceProperties><\/ImageServer>",
 "allowedFields": "",
 "hasMultidimensions": false,
 "pixelSizeX": 1.7807310866469608,
 "pixelSizeY": 1.7807310866469663,
 "meanPixelSize": 0.5427679207458361,
 "datasetFormat": "FGDBR",
 "uncompressedSize": 6407543868,
 "blockWidth": 128,
 "blockHeight": 128,
 "compressionType": "LZ77",
 "bandNames": [
  "Band_1"
 ],
 "allowCopy": true,
 "allowAnalysis": true,
 "itemAccess": false,
 "inspectionCapabilities": "",
 "minPixelSize": 0,
 "maxPixelSize": 0,
 "copyrightText": "",
 "serviceDataType": "esriImageServiceDataTypeGeneric",
 "serviceSourceType": "esriImageServiceSourceTypeDataset",
 "objectIdField": "",
 "fields": [],
 "capabilities": "Image,Metadata,Mensuration",
 "defaultMosaicMethod": "Center",
 "allowedMosaicMethods": "",
 "sortField": "",
 "sortValue": null,
 "sortAscending": true,
 "mosaicOperator": "First",
 "defaultCompressionQuality": 75,
 "defaultResamplingMethod": "Bilinear",
 "maxImageHeight": 4100,
 "maxImageWidth": 15000,
 "allowRasterFunction": true,
 "rasterFunctionInfos": [
  {
   "name": "None",
   "description": "",
   "help": ""
  }
 ],
 "rasterTypeInfos": [
  {
   "name": "Raster Dataset",
   "description": "Supports all ArcGIS Raster Datasets",
   "help": ""
  }
 ],
 "mensurationCapabilities": "Basic",
 "hasHistograms": true,
 "hasColormap": false,
 "hasRasterAttributeTable": false,
 "minScale": 0,
 "maxScale": 0,
 "exportTilesAllowed": false,
 "supportsStatistics": false,
 "supportsAdvancedQueries": false,
 "editFieldsInfo": null,
 "ownershipBasedAccessControlForRasters": null,
 "allowComputeTiePoints": false,
 "useStandardizedQueries": true,
 "advancedQueryCapabilities": {
  "useStandardizedQueries": true,
  "supportsStatistics": false,
  "supportsOrderBy": false,
  "supportsDistinct": false,
  "supportsPagination": false
 },
 "spatialReference": {
  "wkid": 103444,
  "latestWkid": 103444
 }
}
