{
 "currentVersion": 11.5,
 "serviceDescription": "Digital aerial photography was acquired March 25th \u2013 March 29th, 2010, suitable for the production of color orthophotography at a 6-inch ground pixel resolution. The photography was obtained during leaf off conditions and when there was no snow on the ground. Control for the project was collected using Airborne Global Positioning System (ABGPS), and ground-based GPS technology. The horizontal and vertical coordinates are referenced to WISCRS (NAD83 in Feet) and NAVD88. PLSS section tiled 6-inch resolution digital orthophotography was developed for 1\"= 100' scale mapping for the entire county. Orthophotography was provided in color bandwidths (RGB). Deliveries include: digital orthoimagery in GeoTIFF format tiled in PLSS section tiles, digital orthoimagery for the entire County in MrSID format tiled by political townships, a single seamless MrSID orthophoto of the entire project area in the Wisconsin Coordinate Reference System (WISCRS)\u2013 Outagamie County, a single seamless MrSID orthophoto of the entire project area in the Latitude/Longitude Coordinate System, and a single, seamless MrSID black and white orthophoto of the entire project area in the Wisconsin Coordinate Reference System (WISCRS) \u2013 Outagamie County.",
 "name": "Imagery/ORTHO2010",
 "description": "Digital aerial photography was acquired March 25th \u2013 March 29th, 2010, suitable for the production of color orthophotography at a 6-inch ground pixel resolution. The photography was obtained during leaf off conditions and when there was no snow on the ground. Control for the project was collected using Airborne Global Positioning System (ABGPS), and ground-based GPS technology. The horizontal and vertical coordinates are referenced to WISCRS (NAD83 in Feet) and NAVD88. PLSS section tiled 6-inch resolution digital orthophotography was developed for 1\"= 100' scale mapping for the entire county. Orthophotography was provided in color bandwidths (RGB). Deliveries include: digital orthoimagery in GeoTIFF format tiled in PLSS section tiles, digital orthoimagery for the entire County in MrSID format tiled by political townships, a single seamless MrSID orthophoto of the entire project area in the Wisconsin Coordinate Reference System (WISCRS)\u2013 Outagamie County, a single seamless MrSID orthophoto of the entire project area in the Latitude/Longitude Coordinate System, and a single, seamless MrSID black and white orthophoto of the entire project area in the Wisconsin Coordinate Reference System (WISCRS) \u2013 Outagamie County.",
 "extent": {
  "xmin": 737362.5989999996,
  "ymin": 552401.1299999997,
  "xmax": 886624.5989999996,
  "ymax": 684941.6299999997,
  "spatialReference": {
   "wkid": 103444,
   "latestWkid": 103444
  }
 },
 "initialExtent": {
  "xmin": 737362.5989999996,
  "ymin": 552401.1299999997,
  "xmax": 886624.5989999996,
  "ymax": 684941.6299999997,
  "spatialReference": {
   "wkid": 103444,
   "latestWkid": 103444
  }
 },
 "fullExtent": {
  "xmin": 737362.5989999996,
  "ymin": 552401.1299999997,
  "xmax": 886624.5989999996,
  "ymax": 684941.6299999997,
  "spatialReference": {
   "wkid": 103444,
   "latestWkid": 103444
  }
 },
 "sortableFields": "",
 "bandCount": 4,
 "pixelType": "U8",
 "minValues": [
  2,
  2,
  2,
  2
 ],
 "maxValues": [
  254,
  253,
  250,
  250
 ],
 "meanValues": [
  98.14046550487915,
  89.89092257314624,
  83.3764077191936,
  83.3764077191936
 ],
 "stdvValues": [
  25.09494907672416,
  21.77557237764903,
  20.069904981101253,
  20.069904981101253
 ],
 "serviceProperties": "NorthWest<\/MosaicMethod>First<\/MosaicOperator>true<\/SortAscending><\/LockImageID>Name<\/TileOrderField>0<\/TileOrderBase>600.000000<\/AvgImageSpacingX>300.000000<\/AvgImageSpacingY>0.0<\/ViewPointX>0.0<\/ViewPointY>0.0<\/ViewPointDefShiftX>0.0<\/ViewPointDefShiftY>None<\/CompressionMethod>75<\/CompressionQuality>0.010000<\/CompressionTolerance>Bilinear<\/SamplingMethod><\/ImageServiceProperties><\/ImageServer>",
 "allowedFields": "Name,MinPS,MaxPS,LowPS,HighPS,Tag,GroupName,ProductName,CenterX,CenterY,ZOrder,Shape_Length,Shape_Area",
 "hasMultidimensions": false,
 "pixelSizeX": 0.5,
 "pixelSizeY": 0.5,
 "meanPixelSize": 0.15240030480060962,
 "datasetFormat": "AMD",
 "uncompressedSize": 316532161776,
 "blockWidth": 2048,
 "blockHeight": 256,
 "compressionType": "None",
 "bandNames": [
  "Red",
  "Green",
  "Blue",
  "Infrared"
 ],
 "allowCopy": true,
 "allowAnalysis": true,
 "itemAccess": false,
 "inspectionCapabilities": "",
 "minPixelSize": 0,
 "maxPixelSize": 0,
 "copyrightText": "",
 "serviceDataType": "esriImageServiceDataTypeGeneric",
 "serviceSourceType": "esriImageServiceSourceTypeMosaicDataset",
 "objectIdField": "OBJECTID",
 "fields": [
  {
   "name": "OBJECTID",
   "type": "esriFieldTypeOID",
   "alias": "OBJECTID",
   "domain": null
  },
  {
   "name": "Shape",
   "type": "esriFieldTypeGeometry",
   "alias": "Shape",
   "domain": null
  },
  {
   "name": "Name",
   "type": "esriFieldTypeString",
   "alias": "Name",
   "domain": null,
   "length": 200
  },
  {
   "name": "MinPS",
   "type": "esriFieldTypeDouble",
   "alias": "MinPS",
   "domain": null
  },
  {
   "name": "MaxPS",
   "type": "esriFieldTypeDouble",
   "alias": "MaxPS",
   "domain": null
  },
  {
   "name": "LowPS",
   "type": "esriFieldTypeDouble",
   "alias": "LowPS",
   "domain": null
  },
  {
   "name": "HighPS",
   "type": "esriFieldTypeDouble",
   "alias": "HighPS",
   "domain": null
  },
  {
   "name": "Category",
   "type": "esriFieldTypeInteger",
   "alias": "Category",
   "domain": {
    "type": "codedValue",
    "name": "MosaicCatalogItemCategoryDomain",
    "description": "Catalog item categories.",
    "codedValues": [
     {
      "name": "Unknown",
      "code": 0
     },
     {
      "name": "Primary",
      "code": 1
     },
     {
      "name": "Overview",
      "code": 2
     },
     {
      "name": "Unprocessed Overview",
      "code": 3
     },
     {
      "name": "Partial Overview",
      "code": 4
     },
     {
      "name": "Uploaded",
      "code": 253
     },
     {
      "name": "Incomplete",
      "code": 254
     },
     {
      "name": "Custom",
      "code": 255
     }
    ],
    "mergePolicy": "esriMPTDefaultValue",
    "splitPolicy": "esriSPTDefaultValue"
   }
  },
  {
   "name": "Tag",
   "type": "esriFieldTypeString",
   "alias": "Tag",
   "domain": null,
   "length": 100
  },
  {
   "name": "GroupName",
   "type": "esriFieldTypeString",
   "alias": "GroupName",
   "domain": null,
   "length": 100
  },
  {
   "name": "ProductName",
   "type": "esriFieldTypeString",
   "alias": "ProductName",
   "domain": null,
   "length": 100
  },
  {
   "name": "CenterX",
   "type": "esriFieldTypeDouble",
   "alias": "CenterX",
   "domain": null
  },
  {
   "name": "CenterY",
   "type": "esriFieldTypeDouble",
   "alias": "CenterY",
   "domain": null
  },
  {
   "name": "ZOrder",
   "type": "esriFieldTypeInteger",
   "alias": "ZOrder",
   "domain": null
  },
  {
   "name": "Shape_Length",
   "type": "esriFieldTypeDouble",
   "alias": "Shape_Length",
   "domain": null
  },
  {
   "name": "Shape_Area",
   "type": "esriFieldTypeDouble",
   "alias": "Shape_Area",
   "domain": null
  }
 ],
 "capabilities": "Catalog,Mensuration,Image,Metadata",
 "defaultMosaicMethod": "Northwest",
 "allowedMosaicMethods": "NorthWest,Center,LockRaster,ByAttribute,Nadir,Viewpoint,Seamline,None",
 "sortField": "",
 "sortValue": null,
 "sortAscending": true,
 "mosaicOperator": "First",
 "maxDownloadSizeLimit": 2048,
 "defaultCompressionQuality": 75,
 "defaultResamplingMethod": "Bilinear",
 "maxImageHeight": 4100,
 "maxImageWidth": 15000,
 "maxRecordCount": 1000,
 "maxDownloadImageCount": 20,
 "maxMosaicImageCount": 20,
 "allowRasterFunction": true,
 "rasterFunctionInfos": [
  {
   "name": "None",
   "description": "",
   "help": ""
  }
 ],
 "rasterTypeInfos": [
  {
   "name": "Raster Dataset",
   "description": "Supports all ArcGIS Raster Datasets",
   "help": ""
  }
 ],
 "mensurationCapabilities": "Basic",
 "hasHistograms": true,
 "hasColormap": false,
 "hasRasterAttributeTable": false,
 "minScale": 0,
 "maxScale": 0,
 "exportTilesAllowed": false,
 "supportsStatistics": true,
 "supportsAdvancedQueries": true,
 "editFieldsInfo": null,
 "ownershipBasedAccessControlForRasters": null,
 "allowComputeTiePoints": false,
 "useStandardizedQueries": true,
 "advancedQueryCapabilities": {
  "useStandardizedQueries": true,
  "supportsStatistics": true,
  "supportsOrderBy": true,
  "supportsDistinct": true,
  "supportsPagination": true
 },
 "spatialReference": {
  "wkid": 103444,
  "latestWkid": 103444
 },
 "resampling": false
}
