View In:
ArcGIS JavaScript
ArcGIS Online Map Viewer
ArcGIS Earth
Service Description: LiDAR surface showing ground elevation and above ground features. Where above ground features are present, the elevation represents ground elevation + height of the above ground feature
Name: Elevation/OC_DSM_Hillshade_2018
Description: LiDAR surface showing ground elevation and above ground features. Where above ground features are present, the elevation represents ground elevation + height of the above ground feature
Single Fused Map Cache: false
Extent:
XMin: 739832.0
YMin: 554814.0
XMax: 884260.0
YMax: 682508.0
Spatial Reference: 0
(0)
LatestVCSWkid(0)
Initial Extent:
XMin: 739832.0
YMin: 554814.0
XMax: 884260.0
YMax: 682508.0
Spatial Reference: 0
(0)
LatestVCSWkid(0)
Full Extent:
XMin: 739832.0
YMin: 554814.0
XMax: 884260.0
YMax: 682508.0
Spatial Reference: 0
(0)
LatestVCSWkid(0)
Pixel Size X: 2.0
Pixel Size Y: 2.0
Band Count: 1
Pixel Type: U8
RasterFunction Infos: {"rasterFunctionInfos": [{
"name": "None",
"description": "",
"help": ""
}]}
Mensuration Capabilities: Basic
Inspection Capabilities:
Has Histograms: true
Has Colormap: false
Has Multi Dimensions : false
Rendering Rule:
Min Scale: 0
Max Scale: 0
Copyright Text:
Service Data Type: esriImageServiceDataTypeGeneric
Min Values: 0
Max Values: 254
Mean Values: 157.2829090186381
Standard Deviation Values: 59.29442982821074
Object ID Field:
Fields:
None
Default Mosaic Method: Center
Allowed Mosaic Methods:
SortField:
SortValue: null
Mosaic Operator: First
Default Compression Quality: 75
Default Resampling Method: Bilinear
Max Record Count: null
Max Image Height: 4100
Max Image Width: 15000
Max Download Image Count: null
Max Mosaic Image Count: null
Allow Raster Function: true
Allow Copy: true
Allow Analysis: true
Allow Compute TiePoints: false
Supports Statistics: false
Supports Advanced Queries: false
Use StandardizedQueries: true
Raster Type Infos:
Name: Raster Dataset
Description: Supports all ArcGIS Raster Datasets
Help:
Has Raster Attribute Table: true
Edit Fields Info: null
Ownership Based AccessControl For Rasters: null
Child Resources:
Info
Raster Attribute Table
Histograms
Statistics
Key Properties
Legend
Raster Function Infos
Supported Operations:
Export Image
Identify
Measure
Compute Histograms
Compute Statistics Histograms
Get Samples
Compute Class Statistics
Query Boundary
Compute Pixel Location
Compute Angles
Validate
Project