View In:
ArcGIS JavaScript
ArcGIS Online Map Viewer
ArcGIS Earth
Service Description: 1964 Outagamie County Orthophotography.
Name: Imagery/ORTHO1964
Description: 1964 Outagamie County Orthophotography.
Single Fused Map Cache: false
Extent:
XMin: 737944.0645330962
YMin: 553160.8456904432
XMax: 887765.9946063499
YMax: 685459.8281495143
Spatial Reference: 103444
(103444)
LatestVCSWkid(0)
Initial Extent:
XMin: 737944.0645330962
YMin: 553160.8456904432
XMax: 887765.9946063499
YMax: 685459.8281495143
Spatial Reference: 103444
(103444)
LatestVCSWkid(0)
Full Extent:
XMin: 737944.0645330962
YMin: 553160.8456904432
XMax: 887765.9946063499
YMax: 685459.8281495143
Spatial Reference: 103444
(103444)
LatestVCSWkid(0)
Pixel Size X: 1.3235854380378262
Pixel Size Y: 1.323585438037828
Band Count: 1
Pixel Type: U8
RasterFunction Infos: {"rasterFunctionInfos": [{
"name": "None",
"description": "",
"help": ""
}]}
Mensuration Capabilities: Basic
Inspection Capabilities:
Has Histograms: true
Has Colormap: false
Has Multi Dimensions : false
Rendering Rule:
Min Scale: 0
Max Scale: 0
Copyright Text:
Service Data Type: esriImageServiceDataTypeGeneric
Min Values: 1
Max Values: 255
Mean Values: 115.16647583702326
Standard Deviation Values: 64.5514539746202
Object ID Field:
Fields:
None
Default Mosaic Method: Center
Allowed Mosaic Methods:
SortField:
SortValue: null
Mosaic Operator: First
Default Compression Quality: 75
Default Resampling Method: Bilinear
Max Record Count: null
Max Image Height: 4100
Max Image Width: 15000
Max Download Image Count: null
Max Mosaic Image Count: null
Allow Raster Function: true
Allow Copy: true
Allow Analysis: true
Allow Compute TiePoints: false
Supports Statistics: false
Supports Advanced Queries: false
Use StandardizedQueries: true
Raster Type Infos:
Name: Raster Dataset
Description: Supports all ArcGIS Raster Datasets
Help:
Has Raster Attribute Table: true
Edit Fields Info: null
Ownership Based AccessControl For Rasters: null
Child Resources:
Info
Raster Attribute Table
Histograms
Statistics
Key Properties
Legend
Raster Function Infos
Supported Operations:
Export Image
Identify
Measure
Compute Histograms
Compute Statistics Histograms
Get Samples
Compute Class Statistics
Query Boundary
Compute Pixel Location
Compute Angles
Validate
Project