View In:
ArcGIS JavaScript
ArcGIS Online Map Viewer
ArcGIS Earth
Service Description: 1970 Orthophotography of Outagamie County.
Name: Imagery/ORTHO1970
Description: 1970 Orthophotography of Outagamie County.
Single Fused Map Cache: false
Extent:
XMin: 737629.7933497429
YMin: 551632.3400451168
XMax: 887049.698180154
YMax: 683927.9782356601
Spatial Reference: 103444
(103444)
LatestVCSWkid(0)
Initial Extent:
XMin: 737629.7933497429
YMin: 551632.3400451168
XMax: 887049.698180154
YMax: 683927.9782356601
Spatial Reference: 103444
(103444)
LatestVCSWkid(0)
Full Extent:
XMin: 737629.7933497429
YMin: 551632.3400451168
XMax: 887049.698180154
YMax: 683927.9782356601
Spatial Reference: 103444
(103444)
LatestVCSWkid(0)
Pixel Size X: 2.157252033241093
Pixel Size Y: 2.157252033241093
Band Count: 1
Pixel Type: U8
RasterFunction Infos: {"rasterFunctionInfos": [{
"name": "None",
"description": "",
"help": ""
}]}
Mensuration Capabilities: Basic
Inspection Capabilities:
Has Histograms: true
Has Colormap: false
Has Multi Dimensions : false
Rendering Rule:
Min Scale: 0
Max Scale: 0
Copyright Text:
Service Data Type: esriImageServiceDataTypeGeneric
Min Values: 1
Max Values: 255
Mean Values: 121.92017056310323
Standard Deviation Values: 29.87577003940798
Object ID Field:
Fields:
None
Default Mosaic Method: Center
Allowed Mosaic Methods:
SortField:
SortValue: null
Mosaic Operator: First
Default Compression Quality: 75
Default Resampling Method: Bilinear
Max Record Count: null
Max Image Height: 4100
Max Image Width: 15000
Max Download Image Count: null
Max Mosaic Image Count: null
Allow Raster Function: true
Allow Copy: true
Allow Analysis: true
Allow Compute TiePoints: false
Supports Statistics: false
Supports Advanced Queries: false
Use StandardizedQueries: true
Raster Type Infos:
Name: Raster Dataset
Description: Supports all ArcGIS Raster Datasets
Help:
Has Raster Attribute Table: false
Edit Fields Info: null
Ownership Based AccessControl For Rasters: null
Child Resources:
Info
Histograms
Statistics
Key Properties
Legend
Raster Function Infos
Supported Operations:
Export Image
Identify
Measure
Compute Histograms
Compute Statistics Histograms
Get Samples
Compute Class Statistics
Query Boundary
Compute Pixel Location
Compute Angles
Validate
Project