View In:
ArcGIS JavaScript
ArcGIS Online Map Viewer
ArcGIS Earth
Service Description: 1992 Orthophotography for Outagamie County.
Name: Imagery/ORTHO1992
Description: 1992 Orthophotography for Outagamie County.
Single Fused Map Cache: false
Extent:
XMin: 735967.6600018096
YMin: 533829.1200035742
XMax: 886307.7400029622
YMax: 696039.5600019895
Spatial Reference: 103444
(103444)
LatestVCSWkid(0)
Initial Extent:
XMin: 735967.6600018096
YMin: 533829.1200035742
XMax: 886307.7400029622
YMax: 696039.5600019895
Spatial Reference: 103444
(103444)
LatestVCSWkid(0)
Full Extent:
XMin: 735967.6600018096
YMin: 533829.1200035742
XMax: 886307.7400029622
YMax: 696039.5600019895
Spatial Reference: 103444
(103444)
LatestVCSWkid(0)
Pixel Size X: 3.340000000025606
Pixel Size Y: 3.33999999996737
Band Count: 1
Pixel Type: U8
RasterFunction Infos: {"rasterFunctionInfos": [{
"name": "None",
"description": "",
"help": ""
}]}
Mensuration Capabilities: Basic
Inspection Capabilities:
Has Histograms: true
Has Colormap: false
Has Multi Dimensions : false
Rendering Rule:
Min Scale: 0
Max Scale: 0
Copyright Text:
Service Data Type: esriImageServiceDataTypeGeneric
Min Values: 1
Max Values: 255
Mean Values: 116.80146887931053
Standard Deviation Values: 38.97345196246724
Object ID Field:
Fields:
None
Default Mosaic Method: Center
Allowed Mosaic Methods:
SortField:
SortValue: null
Mosaic Operator: First
Default Compression Quality: 75
Default Resampling Method: Bilinear
Max Record Count: null
Max Image Height: 4100
Max Image Width: 15000
Max Download Image Count: null
Max Mosaic Image Count: null
Allow Raster Function: true
Allow Copy: true
Allow Analysis: true
Allow Compute TiePoints: false
Supports Statistics: false
Supports Advanced Queries: false
Use StandardizedQueries: true
Raster Type Infos:
Name: Raster Dataset
Description: Supports all ArcGIS Raster Datasets
Help:
Has Raster Attribute Table: false
Edit Fields Info: null
Ownership Based AccessControl For Rasters: null
Child Resources:
Info
Histograms
Statistics
Key Properties
Legend
Raster Function Infos
Supported Operations:
Export Image
Identify
Measure
Compute Histograms
Compute Statistics Histograms
Get Samples
Compute Class Statistics
Query Boundary
Compute Pixel Location
Compute Angles
Validate
Project