View In:
ArcGIS JavaScript
ArcGIS Online Map Viewer
ArcGIS Earth
Service Description: In the spring of 2005, 1"=1666' scale black and white aerial photography was acquired for the northern half of Outagamie County and 1"=833' scale black and white aerial photography for the southern half of the county. This project was part of the 2005 Wisconsin Regional Mapping Initiative.
The digital orthophoto image that is part of the northern digital orthophotography dataset was prepared from the 1"=1666' scale aerial photography and was rectified to the County's DTM, which was prepared through stereo compilation in 2000 as a component of a digital orthophotography and 4-foot contour mapping project.
This digital orthophoto image that is part of the southern digital orthophotography dataset was prepared from the 1"=833' scale aerial photography and was rectified to the County's DTM, which was prepared through stereo compilation in 2000 as a component of a digital orthophotography and 4-foot contour mapping project.
Name: Imagery/ORTHO2005
Description: In the spring of 2005, 1"=1666' scale black and white aerial photography was acquired for the northern half of Outagamie County and 1"=833' scale black and white aerial photography for the southern half of the county. This project was part of the 2005 Wisconsin Regional Mapping Initiative.
The digital orthophoto image that is part of the northern digital orthophotography dataset was prepared from the 1"=1666' scale aerial photography and was rectified to the County's DTM, which was prepared through stereo compilation in 2000 as a component of a digital orthophotography and 4-foot contour mapping project.
This digital orthophoto image that is part of the southern digital orthophotography dataset was prepared from the 1"=833' scale aerial photography and was rectified to the County's DTM, which was prepared through stereo compilation in 2000 as a component of a digital orthophotography and 4-foot contour mapping project.
Single Fused Map Cache: false
Extent:
XMin: 739614.7680000192
YMin: 554442.5290037373
XMax: 884483.7679958018
YMax: 682820.529
Spatial Reference: 103444
(103444)
LatestVCSWkid(0)
Initial Extent:
XMin: 739614.7680000192
YMin: 554442.5290037373
XMax: 884483.7679958018
YMax: 682820.529
Spatial Reference: 103444
(103444)
LatestVCSWkid(0)
Full Extent:
XMin: 739614.7680000192
YMin: 554442.5290037373
XMax: 884483.7679958018
YMax: 682820.529
Spatial Reference: 103444
(103444)
LatestVCSWkid(0)
Pixel Size X: 0.49999999998544375
Pixel Size Y: 0.49999999998544425
Band Count: 1
Pixel Type: U8
RasterFunction Infos: {"rasterFunctionInfos": [{
"name": "None",
"description": "",
"help": ""
}]}
Mensuration Capabilities: Basic
Inspection Capabilities:
Has Histograms: true
Has Colormap: false
Has Multi Dimensions : false
Rendering Rule:
Min Scale: 0
Max Scale: 0
Resampling: false
Copyright Text:
Service Data Type: esriImageServiceDataTypeGeneric
Min Values: 19
Max Values: 255
Mean Values: 139.5074235958464
Standard Deviation Values: 27.04967143522216
Object ID Field: OBJECTID
Fields:
-
OBJECTID
(
type: esriFieldTypeOID, alias: OBJECTID
)
-
Shape
(
type: esriFieldTypeGeometry, alias: Shape
)
-
Name
(
type: esriFieldTypeString, alias: Name, length: 50
)
-
MinPS
(
type: esriFieldTypeDouble, alias: MinPS
)
-
MaxPS
(
type: esriFieldTypeDouble, alias: MaxPS
)
-
LowPS
(
type: esriFieldTypeDouble, alias: LowPS
)
-
HighPS
(
type: esriFieldTypeDouble, alias: HighPS
)
-
Category
(
type: esriFieldTypeInteger, alias: Category
, Coded Values:
[0: Unknown]
, [1: Primary]
, [2: Overview]
, ...5 more...
)
-
Tag
(
type: esriFieldTypeString, alias: Tag, length: 20
)
-
GroupName
(
type: esriFieldTypeString, alias: GroupName, length: 50
)
-
ProductName
(
type: esriFieldTypeString, alias: ProductName, length: 50
)
-
CenterX
(
type: esriFieldTypeDouble, alias: CenterX
)
-
CenterY
(
type: esriFieldTypeDouble, alias: CenterY
)
-
ZOrder
(
type: esriFieldTypeInteger, alias: ZOrder
)
-
Shape_Length
(
type: esriFieldTypeDouble, alias: Shape_Length
)
-
Shape_Area
(
type: esriFieldTypeDouble, alias: Shape_Area
)
Default Mosaic Method: Northwest
Allowed Mosaic Methods: NorthWest,Center,LockRaster,ByAttribute,Nadir,Viewpoint,Seamline,None
SortField:
SortValue: null
Mosaic Operator: First
Default Compression Quality: 75
Default Resampling Method: Bilinear
Max Record Count: 1000
Max Image Height: 4100
Max Image Width: 15000
Max Download Image Count: 20
Max Mosaic Image Count: 20
Allow Raster Function: true
Allow Copy: true
Allow Analysis: true
Allow Compute TiePoints: false
Supports Statistics: true
Supports Advanced Queries: true
Use StandardizedQueries: true
Raster Type Infos:
Name: Raster Dataset
Description: Supports all ArcGIS Raster Datasets
Help:
Has Raster Attribute Table: false
Edit Fields Info: null
Ownership Based AccessControl For Rasters: null
Child Resources:
Info
Histograms
Statistics
Key Properties
Legend
Raster Function Infos
Supported Operations:
Export Image
Query
Identify
Measure
Compute Histograms
Compute Statistics Histograms
Get Samples
Compute Class Statistics
Query GPS Info
Find Images
Image to Map
Map to Image
Measure from Image
Image to Map Multiray
Query Boundary
Compute Pixel Location
Compute Angles
Validate
Project