View In:
ArcGIS JavaScript
ArcGIS Online Map Viewer
ArcGIS Earth
Service Description: LiDAR surface representing bare earth elevation. Above ground features such as trees and buildings are not represented in this surface.
Name: Elevation/OC_DEM_Hillshade
Description: LiDAR surface representing bare earth elevation. Above ground features such as trees and buildings are not represented in this surface.
Single Fused Map Cache: false
Extent:
XMin: 739832.0
YMin: 554814.0
XMax: 884260.0
YMax: 682508.0
Spatial Reference: 0
(0)
LatestVCSWkid(0)
Initial Extent:
XMin: 739832.0
YMin: 554814.0
XMax: 884260.0
YMax: 682508.0
Spatial Reference: 0
(0)
LatestVCSWkid(0)
Full Extent:
XMin: 739832.0
YMin: 554814.0
XMax: 884260.0
YMax: 682508.0
Spatial Reference: 0
(0)
LatestVCSWkid(0)
Pixel Size X: 2.0
Pixel Size Y: 2.0
Band Count: 1
Pixel Type: S32
RasterFunction Infos: {"rasterFunctionInfos": [{
"name": "None",
"description": "",
"help": ""
}]}
Mensuration Capabilities: Basic
Inspection Capabilities:
Has Histograms: false
Has Colormap: false
Has Multi Dimensions : false
Rendering Rule:
Min Scale: 0
Max Scale: 0
Copyright Text:
Service Data Type: esriImageServiceDataTypeGeneric
Min Values: N/A
Max Values: N/A
Mean Values: N/A
Standard Deviation Values: N/A
Object ID Field:
Fields:
None
Default Mosaic Method: Center
Allowed Mosaic Methods:
SortField:
SortValue: null
Mosaic Operator: First
Default Compression Quality: 75
Default Resampling Method: Bilinear
Max Record Count: null
Max Image Height: 4100
Max Image Width: 15000
Max Download Image Count: null
Max Mosaic Image Count: null
Allow Raster Function: true
Allow Copy: true
Allow Analysis: true
Allow Compute TiePoints: false
Supports Statistics: false
Supports Advanced Queries: false
Use StandardizedQueries: true
Raster Type Infos:
Name: Raster Dataset
Description: Supports all ArcGIS Raster Datasets
Help:
Has Raster Attribute Table: false
Edit Fields Info: null
Ownership Based AccessControl For Rasters: null
Child Resources:
Info
Statistics
Key Properties
Legend
Raster Function Infos
Supported Operations:
Export Image
Identify
Measure
Compute Histograms
Compute Statistics Histograms
Get Samples
Compute Class Statistics
Query Boundary
Compute Pixel Location
Compute Angles
Validate
Project