View In:
ArcGIS JavaScript
ArcGIS Online Map Viewer
ArcGIS Earth
Service Description: For information contact East Central Wisconsin Regional Planning Commission.
400 Ahnaip St. Suite 100
Menasha, WI 54952
(920) 751-4770 Fax: (920) 751-4771
staff@eastcentralrpc.org
Name: Imagery/ORTHO1938
Description: For information contact East Central Wisconsin Regional Planning Commission.
400 Ahnaip St. Suite 100
Menasha, WI 54952
(920) 751-4770 Fax: (920) 751-4771
staff@eastcentralrpc.org
Single Fused Map Cache: false
Extent:
XMin: 736591.1916424205
YMin: 551584.8308488026
XMax: 885188.6247476236
YMax: 684641.7412406749
Spatial Reference: 103444
(103444)
LatestVCSWkid(0)
Initial Extent:
XMin: 736591.1916424205
YMin: 551584.8308488026
XMax: 885188.6247476236
YMax: 684641.7412406749
Spatial Reference: 103444
(103444)
LatestVCSWkid(0)
Full Extent:
XMin: 736591.1916424205
YMin: 551584.8308488026
XMax: 885188.6247476236
YMax: 684641.7412406749
Spatial Reference: 103444
(103444)
LatestVCSWkid(0)
Pixel Size X: 1.343290060794445
Pixel Size Y: 1.3432900607944462
Band Count: 1
Pixel Type: U8
RasterFunction Infos: {"rasterFunctionInfos": [{
"name": "None",
"description": "",
"help": ""
}]}
Mensuration Capabilities: Basic
Inspection Capabilities:
Has Histograms: true
Has Colormap: false
Has Multi Dimensions : false
Rendering Rule:
Min Scale: 0
Max Scale: 0
Copyright Text:
Service Data Type: esriImageServiceDataTypeGeneric
Min Values: 1
Max Values: 255
Mean Values: 156.3963658910427
Standard Deviation Values: 59.331548349076506
Object ID Field:
Fields:
None
Default Mosaic Method: Center
Allowed Mosaic Methods:
SortField:
SortValue: null
Mosaic Operator: First
Default Compression Quality: 75
Default Resampling Method: Bilinear
Max Record Count: null
Max Image Height: 4100
Max Image Width: 15000
Max Download Image Count: null
Max Mosaic Image Count: null
Allow Raster Function: true
Allow Copy: true
Allow Analysis: true
Allow Compute TiePoints: false
Supports Statistics: false
Supports Advanced Queries: false
Use StandardizedQueries: true
Raster Type Infos:
Name: Raster Dataset
Description: Supports all ArcGIS Raster Datasets
Help:
Has Raster Attribute Table: false
Edit Fields Info: null
Ownership Based AccessControl For Rasters: null
Child Resources:
Info
Histograms
Statistics
Key Properties
Legend
Raster Function Infos
Supported Operations:
Export Image
Identify
Measure
Compute Histograms
Compute Statistics Histograms
Get Samples
Compute Class Statistics
Query Boundary
Compute Pixel Location
Compute Angles
Validate
Project