View In:
ArcGIS JavaScript
ArcGIS Online Map Viewer
ArcGIS Earth
Service Description: 1957 Orthophotography of Outagamie County.
Name: Imagery/ORTHO1957
Description: 1957 Orthophotography of Outagamie County.
Single Fused Map Cache: false
Extent:
XMin: 736711.4513588101
YMin: 551633.1038655537
XMax: 887852.7830690575
YMax: 686065.8357897932
Spatial Reference: 103444
(103444)
LatestVCSWkid(0)
Initial Extent:
XMin: 736711.4513588101
YMin: 551633.1038655537
XMax: 887852.7830690575
YMax: 686065.8357897932
Spatial Reference: 103444
(103444)
LatestVCSWkid(0)
Full Extent:
XMin: 736711.4513588101
YMin: 551633.1038655537
XMax: 887852.7830690575
YMax: 686065.8357897932
Spatial Reference: 103444
(103444)
LatestVCSWkid(0)
Pixel Size X: 1.7807310866469608
Pixel Size Y: 1.7807310866469663
Band Count: 1
Pixel Type: U8
RasterFunction Infos: {"rasterFunctionInfos": [{
"name": "None",
"description": "",
"help": ""
}]}
Mensuration Capabilities: Basic
Inspection Capabilities:
Has Histograms: true
Has Colormap: false
Has Multi Dimensions : false
Rendering Rule:
Min Scale: 0
Max Scale: 0
Copyright Text:
Service Data Type: esriImageServiceDataTypeGeneric
Min Values: 14
Max Values: 255
Mean Values: 148.25379868645456
Standard Deviation Values: 51.291751035290744
Object ID Field:
Fields:
None
Default Mosaic Method: Center
Allowed Mosaic Methods:
SortField:
SortValue: null
Mosaic Operator: First
Default Compression Quality: 75
Default Resampling Method: Bilinear
Max Record Count: null
Max Image Height: 4100
Max Image Width: 15000
Max Download Image Count: null
Max Mosaic Image Count: null
Allow Raster Function: true
Allow Copy: true
Allow Analysis: true
Allow Compute TiePoints: false
Supports Statistics: false
Supports Advanced Queries: false
Use StandardizedQueries: true
Raster Type Infos:
Name: Raster Dataset
Description: Supports all ArcGIS Raster Datasets
Help:
Has Raster Attribute Table: false
Edit Fields Info: null
Ownership Based AccessControl For Rasters: null
Child Resources:
Info
Histograms
Statistics
Key Properties
Legend
Raster Function Infos
Supported Operations:
Export Image
Identify
Measure
Compute Histograms
Compute Statistics Histograms
Get Samples
Compute Class Statistics
Query Boundary
Compute Pixel Location
Compute Angles
Validate
Project