View In:
ArcGIS JavaScript
ArcGIS Online Map Viewer
ArcGIS Earth
Service Description: Digital aerial photography was acquired March 25th – March 29th, 2010, suitable for the production of color orthophotography at a 6-inch ground pixel resolution. The photography was obtained during leaf off conditions and when there was no snow on the ground. Control for the project was collected using Airborne Global Positioning System (ABGPS), and ground-based GPS technology. The horizontal and vertical coordinates are referenced to WISCRS (NAD83 in Feet) and NAVD88. PLSS section tiled 6-inch resolution digital orthophotography was developed for 1"= 100' scale mapping for the entire county. Orthophotography was provided in color bandwidths (RGB). Deliveries include: digital orthoimagery in GeoTIFF format tiled in PLSS section tiles, digital orthoimagery for the entire County in MrSID format tiled by political townships, a single seamless MrSID orthophoto of the entire project area in the Wisconsin Coordinate Reference System (WISCRS)– Outagamie County, a single seamless MrSID orthophoto of the entire project area in the Latitude/Longitude Coordinate System, and a single, seamless MrSID black and white orthophoto of the entire project area in the Wisconsin Coordinate Reference System (WISCRS) – Outagamie County.
Name: Imagery/ORTHO2010
Description: Digital aerial photography was acquired March 25th – March 29th, 2010, suitable for the production of color orthophotography at a 6-inch ground pixel resolution. The photography was obtained during leaf off conditions and when there was no snow on the ground. Control for the project was collected using Airborne Global Positioning System (ABGPS), and ground-based GPS technology. The horizontal and vertical coordinates are referenced to WISCRS (NAD83 in Feet) and NAVD88. PLSS section tiled 6-inch resolution digital orthophotography was developed for 1"= 100' scale mapping for the entire county. Orthophotography was provided in color bandwidths (RGB). Deliveries include: digital orthoimagery in GeoTIFF format tiled in PLSS section tiles, digital orthoimagery for the entire County in MrSID format tiled by political townships, a single seamless MrSID orthophoto of the entire project area in the Wisconsin Coordinate Reference System (WISCRS)– Outagamie County, a single seamless MrSID orthophoto of the entire project area in the Latitude/Longitude Coordinate System, and a single, seamless MrSID black and white orthophoto of the entire project area in the Wisconsin Coordinate Reference System (WISCRS) – Outagamie County.
Single Fused Map Cache: false
Extent:
XMin: 737362.5989999996
YMin: 552401.1299999997
XMax: 886624.5989999996
YMax: 684941.6299999997
Spatial Reference: 103444
(103444)
LatestVCSWkid(0)
Initial Extent:
XMin: 737362.5989999996
YMin: 552401.1299999997
XMax: 886624.5989999996
YMax: 684941.6299999997
Spatial Reference: 103444
(103444)
LatestVCSWkid(0)
Full Extent:
XMin: 737362.5989999996
YMin: 552401.1299999997
XMax: 886624.5989999996
YMax: 684941.6299999997
Spatial Reference: 103444
(103444)
LatestVCSWkid(0)
Pixel Size X: 0.5
Pixel Size Y: 0.5
Band Count: 4
Pixel Type: U8
RasterFunction Infos: {"rasterFunctionInfos": [{
"name": "None",
"description": "",
"help": ""
}]}
Mensuration Capabilities: Basic
Inspection Capabilities:
Has Histograms: true
Has Colormap: false
Has Multi Dimensions : false
Rendering Rule:
Min Scale: 0
Max Scale: 0
Resampling: false
Copyright Text:
Service Data Type: esriImageServiceDataTypeGeneric
Min Values: 2, 2, 2, 2
Max Values: 254, 253, 250, 250
Mean Values: 98.14046550487915, 89.89092257314624, 83.3764077191936, 83.3764077191936
Standard Deviation Values: 25.09494907672416, 21.77557237764903, 20.069904981101253, 20.069904981101253
Object ID Field: OBJECTID
Fields:
-
OBJECTID
(
type: esriFieldTypeOID, alias: OBJECTID
)
-
Shape
(
type: esriFieldTypeGeometry, alias: Shape
)
-
Name
(
type: esriFieldTypeString, alias: Name, length: 200
)
-
MinPS
(
type: esriFieldTypeDouble, alias: MinPS
)
-
MaxPS
(
type: esriFieldTypeDouble, alias: MaxPS
)
-
LowPS
(
type: esriFieldTypeDouble, alias: LowPS
)
-
HighPS
(
type: esriFieldTypeDouble, alias: HighPS
)
-
Category
(
type: esriFieldTypeInteger, alias: Category
, Coded Values:
[0: Unknown]
, [1: Primary]
, [2: Overview]
, ...5 more...
)
-
Tag
(
type: esriFieldTypeString, alias: Tag, length: 100
)
-
GroupName
(
type: esriFieldTypeString, alias: GroupName, length: 100
)
-
ProductName
(
type: esriFieldTypeString, alias: ProductName, length: 100
)
-
CenterX
(
type: esriFieldTypeDouble, alias: CenterX
)
-
CenterY
(
type: esriFieldTypeDouble, alias: CenterY
)
-
ZOrder
(
type: esriFieldTypeInteger, alias: ZOrder
)
-
Shape_Length
(
type: esriFieldTypeDouble, alias: Shape_Length
)
-
Shape_Area
(
type: esriFieldTypeDouble, alias: Shape_Area
)
Default Mosaic Method: Northwest
Allowed Mosaic Methods: NorthWest,Center,LockRaster,ByAttribute,Nadir,Viewpoint,Seamline,None
SortField:
SortValue: null
Mosaic Operator: First
Default Compression Quality: 75
Default Resampling Method: Bilinear
Max Record Count: 1000
Max Image Height: 4100
Max Image Width: 15000
Max Download Image Count: 20
Max Mosaic Image Count: 20
Allow Raster Function: true
Allow Copy: true
Allow Analysis: true
Allow Compute TiePoints: false
Supports Statistics: true
Supports Advanced Queries: true
Use StandardizedQueries: true
Raster Type Infos:
Name: Raster Dataset
Description: Supports all ArcGIS Raster Datasets
Help:
Has Raster Attribute Table: false
Edit Fields Info: null
Ownership Based AccessControl For Rasters: null
Child Resources:
Info
Histograms
Statistics
Key Properties
Legend
Raster Function Infos
Supported Operations:
Export Image
Query
Identify
Measure
Compute Histograms
Compute Statistics Histograms
Get Samples
Compute Class Statistics
Query GPS Info
Find Images
Image to Map
Map to Image
Measure from Image
Image to Map Multiray
Query Boundary
Compute Pixel Location
Compute Angles
Validate
Project